Workbook

Sheet Directions
A1: Directions on FA obligation hours:
A4: Each CAH is 2.5 hours FA obligation per week, assuming a 17.5 week
A5: Your semester hours can be worked from Jan thru May or August thru Dec
A8: 1 CAH = 2.5 hours per week, 17.5 weeks = 43.75 hours per semester
A9: 2 CAH = 5.0 hours per week, 17.5 weeks = 87.5 hours per semester
A10: 3 CAH = 7.5 hours per week, 17.5 weeks =131.25 hours per semester
A11: 4 CAH = 10.0 hours per week, 17.5 weeks = 175 hours per semester
A12: 5 CAH = 12.5 hours per week, 17.5 weeks = 218.75 hours per semester
A13: 6 CAH = 15.0 hours per week, 17.5 weeks = 262.5 hours per semester
A14: 7 CAH = 17.5 hours per week, 17.5 weeks = 306.25 hours per semester
A15: 8 CAH = 20.0 hours per week, 17.5 weeks = 350 hours per semester
A16: 9 CAH = 22.5 hours per week, 17.5 weeks = 393.75 hours per semester
... A20: At the end of each semester (May and Dec):
B21: -- complete the following spreadsheet
B22: -- input your hours worked
B23: -- save the file as: your_name_timesheet_semesteryear.xls -- for example: dfields_timesheet_Spring2018.xlsx
B24: -- upload to the shared drive

Sheet Jan
H1: CLPFA—Monthly BILLABLE HOURS Report—Revised May 2018
A2: Name: | C2: Month: | G2: Year:
A3: > | C3: > | G3: 20____
B4: Nonchargable Activities: | C4: Week 1 | D4: Week 2 | E4: Week 3 | F4: Week 4 | G4: Week 5 | H4: Total
A5: 1 | B5: Member-only Benefits, legal services only open to members, or preparation for and attendance at member only social events | H5: =SUM(C5:G5) -> 0
A6: 2 | B6: Political Action, including endorsements and PAC activities | H6: =SUM(C6:G6) -> 0
A7: 3 | B7: Membership recruitment & helping other locals | H7: =SUM(C7:G7) -> 0
A8: 4 | B8: Good and welfare activities, including scholarship funds and donations | H8: =SUM(C8:G8) -> 0
A9: 5 | B9: Trainings and meetings, including BFA functions, to the extent that they are nonchargeable | H9: =SUM(C9:G9) -> 0
A10: 6 | B10: Lobbying, if not part of item 17 | H10: =SUM(C10:G10) -> 0
A11: 7 | B11: Public relations | H11: =SUM(C11:G11) -> 0
A12: 8 | B12: Other nonchargeable activities (Please specify): > | H12: =SUM(C12:G12) -> 0
B13: Chargeable percentage to be calculated during audit:
A14: 9 | B14: Publications or website | H14: =SUM(C14:G14) -> 0
A15: 10 | B15: Preparation for and attendance at local’s executive board or council | H15: =SUM(C15:G15) -> 0
A16: 11 | B16: Attendance at (FACCC) councils or conferences Specify: > | H16: =SUM(C16:G16) -> 0
B17: Chargeable Activities:
A18: 12 | B18: Contract negotiations, administration and enforcement, including District benefit plans | H18: =SUM(C18:G18) -> 0
A19: 13 | B19: Local union administration, including financial and agency fee matters & internal governance elections | H19: =SUM(C19:G19) -> 0
A20: 14 | B20: Representation, including problem solving for bargaining unit members and all legal services affecting the whole bargaining unit | H20: =SUM(C20:G20) -> 0
A21: 15 | B21: Research on District budgets and Education Code | H21: =SUM(C21:G21) -> 0
A22: 16 | B22: Educational policy and reform | H22: =SUM(C22:G22) -> 0
A23: 17 | B23: Lobbying for legislation, either related directly to the bargaining contract, or requesting by the District to get specific resources to improve the contract | H23: =SUM(C23:G23) -> 0
A24: 18 | B24: Preparation and attendance at social functions open to all, plus affiliate conventions | H24: =SUM(C24:G24) -> 0
A25: 19 | B25: Training and meetings, including BFA functions to the extent that they are chargeable activities | H25: =SUM(C25:G25) -> 0
A26: 20 | B26: Other chargeable activities (Please specify): > | H26: =SUM(C26:G26) -> 0
B28: TOTAL HOURS WORKED THIS MONTH >> | C28: =SUM(C5:C27) -> 0 | D28: =SUM(D5:D27) -> 0 | E28: =SUM(E5:E27) -> 0 | F28: =SUM(F5:F27) -> 0 | G28: =SUM(G5:G27) -> 0 | H28: =SUM(H5:H27) -> 0

Sheet Feb
H1: CLPFA—Monthly BILLABLE HOURS Report—Revised May 2018
A2: Name: | C2: Month: | G2: Year:
A3: > | C3: > | G3: 20____
B4: Nonchargable Activities: | C4: Week 1 | D4: Week 2 | E4: Week 3 | F4: Week 4 | G4: Week 5 | H4: Total
A5: 1 | B5: Member-only Benefits, legal services only open to members, or preparation for and attendance at member only social events | H5: =SUM(C5:G5) -> 0
A6: 2 | B6: Political Action, including endorsements and PAC activities | H6: =SUM(C6:G6) -> 0
A7: 3 | B7: Membership recruitment & helping other locals | H7: =SUM(C7:G7) -> 0
A8: 4 | B8: Good and welfare activities, including scholarship funds and donations | H8: =SUM(C8:G8) -> 0
A9: 5 | B9: Trainings and meetings, including BFA functions, to the extent that they are nonchargeable | H9: =SUM(C9:G9) -> 0
A10: 6 | B10: Lobbying, if not part of item 17 | H10: =SUM(C10:G10) -> 0
A11: 7 | B11: Public relations | H11: =SUM(C11:G11) -> 0
A12: 8 | B12: Other nonchargeable activities (Please specify): > | H12: =SUM(C12:G12) -> 0
B13: Chargeable percentage to be calculated during audit:
A14: 9 | B14: Publications or website | H14: =SUM(C14:G14) -> 0
A15: 10 | B15: Preparation for and attendance at local’s executive board or council | H15: =SUM(C15:G15) -> 0
A16: 11 | B16: Attendance at (FACCC) councils or conferences Specify: > | H16: =SUM(C16:G16) -> 0
B17: Chargeable Activities:
A18: 12 | B18: Contract negotiations, administration and enforcement, including District benefit plans | H18: =SUM(C18:G18) -> 0
A19: 13 | B19: Local union administration, including financial and agency fee matters & internal governance elections | H19: =SUM(C19:G19) -> 0
A20: 14 | B20: Representation, including problem solving for bargaining unit members and all legal services affecting the whole bargaining unit | H20: =SUM(C20:G20) -> 0
A21: 15 | B21: Research on District budgets and Education Code | H21: =SUM(C21:G21) -> 0
A22: 16 | B22: Educational policy and reform | H22: =SUM(C22:G22) -> 0
A23: 17 | B23: Lobbying for legislation, either related directly to the bargaining contract, or requesting by the District to get specific resources to improve the contract | H23: =SUM(C23:G23) -> 0
A24: 18 | B24: Preparation and attendance at social functions open to all, plus affiliate conventions | H24: =SUM(C24:G24) -> 0
A25: 19 | B25: Training and meetings, including BFA functions to the extent that they are chargeable activities | H25: =SUM(C25:G25) -> 0
A26: 20 | B26: Other chargeable activities (Please specify): > | H26: =SUM(C26:G26) -> 0
B28: TOTAL HOURS WORKED THIS MONTH >> | C28: =SUM(C5:C27) -> 0 | D28: =SUM(D5:D27) -> 0 | E28: =SUM(E5:E27) -> 0 | F28: =SUM(F5:F27) -> 0 | G28: =SUM(G5:G27) -> 0 | H28: =SUM(H5:H27) -> 0

Sheet Mar
H1: CLPFA—Monthly BILLABLE HOURS Report—Revised May 2018
A2: Name: | C2: Month: | G2: Year:
A3: > | C3: > | G3: 20____
B4: Nonchargable Activities: | C4: Week 1 | D4: Week 2 | E4: Week 3 | F4: Week 4 | G4: Week 5 | H4: Total
A5: 1 | B5: Member-only Benefits, legal services only open to members, or preparation for and attendance at member only social events | H5: =SUM(C5:G5) -> 0
A6: 2 | B6: Political Action, including endorsements and PAC activities | H6: =SUM(C6:G6) -> 0
A7: 3 | B7: Membership recruitment & helping other locals | H7: =SUM(C7:G7) -> 0
A8: 4 | B8: Good and welfare activities, including scholarship funds and donations | H8: =SUM(C8:G8) -> 0
A9: 5 | B9: Trainings and meetings, including BFA functions, to the extent that they are nonchargeable | H9: =SUM(C9:G9) -> 0
A10: 6 | B10: Lobbying, if not part of item 17 | H10: =SUM(C10:G10) -> 0
A11: 7 | B11: Public relations | H11: =SUM(C11:G11) -> 0
A12: 8 | B12: Other nonchargeable activities (Please specify): > | H12: =SUM(C12:G12) -> 0
B13: Chargeable percentage to be calculated during audit:
A14: 9 | B14: Publications or website | H14: =SUM(C14:G14) -> 0
A15: 10 | B15: Preparation for and attendance at local’s executive board or council | H15: =SUM(C15:G15) -> 0
A16: 11 | B16: Attendance at (FACCC) councils or conferences Specify: > | H16: =SUM(C16:G16) -> 0
B17: Chargeable Activities:
A18: 12 | B18: Contract negotiations, administration and enforcement, including District benefit plans | H18: =SUM(C18:G18) -> 0
A19: 13 | B19: Local union administration, including financial and agency fee matters & internal governance elections | H19: =SUM(C19:G19) -> 0
A20: 14 | B20: Representation, including problem solving for bargaining unit members and all legal services affecting the whole bargaining unit | H20: =SUM(C20:G20) -> 0
A21: 15 | B21: Research on District budgets and Education Code | H21: =SUM(C21:G21) -> 0
A22: 16 | B22: Educational policy and reform | H22: =SUM(C22:G22) -> 0
A23: 17 | B23: Lobbying for legislation, either related directly to the bargaining contract, or requesting by the District to get specific resources to improve the contract | H23: =SUM(C23:G23) -> 0
A24: 18 | B24: Preparation and attendance at social functions open to all, plus affiliate conventions | H24: =SUM(C24:G24) -> 0
A25: 19 | B25: Training and meetings, including BFA functions to the extent that they are chargeable activities | H25: =SUM(C25:G25) -> 0
A26: 20 | B26: Other chargeable activities (Please specify): > | H26: =SUM(C26:G26) -> 0
B28: TOTAL HOURS WORKED THIS MONTH >> | C28: =SUM(C5:C27) -> 0 | D28: =SUM(D5:D27) -> 0 | E28: =SUM(E5:E27) -> 0 | F28: =SUM(F5:F27) -> 0 | G28: =SUM(G5:G27) -> 0 | H28: =SUM(H5:H27) -> 0

Sheet Apr
H1: CLPFA—Monthly BILLABLE HOURS Report—Revised May 2018
A2: Name: | C2: Month: | G2: Year:
A3: > | C3: > | G3: 20____
B4: Nonchargable Activities: | C4: Week 1 | D4: Week 2 | E4: Week 3 | F4: Week 4 | G4: Week 5 | H4: Total
A5: 1 | B5: Member-only Benefits, legal services only open to members, or preparation for and attendance at member only social events | H5: =SUM(C5:G5) -> 0
A6: 2 | B6: Political Action, including endorsements and PAC activities | H6: =SUM(C6:G6) -> 0
A7: 3 | B7: Membership recruitment & helping other locals | H7: =SUM(C7:G7) -> 0
A8: 4 | B8: Good and welfare activities, including scholarship funds and donations | H8: =SUM(C8:G8) -> 0
A9: 5 | B9: Trainings and meetings, including BFA functions, to the extent that they are nonchargeable | H9: =SUM(C9:G9) -> 0
A10: 6 | B10: Lobbying, if not part of item 17 | H10: =SUM(C10:G10) -> 0
A11: 7 | B11: Public relations | H11: =SUM(C11:G11) -> 0
A12: 8 | B12: Other nonchargeable activities (Please specify): > | H12: =SUM(C12:G12) -> 0
B13: Chargeable percentage to be calculated during audit:
A14: 9 | B14: Publications or website | H14: =SUM(C14:G14) -> 0
A15: 10 | B15: Preparation for and attendance at local’s executive board or council | H15: =SUM(C15:G15) -> 0
A16: 11 | B16: Attendance at (FACCC) councils or conferences Specify: > | H16: =SUM(C16:G16) -> 0
B17: Chargeable Activities:
A18: 12 | B18: Contract negotiations, administration and enforcement, including District benefit plans | H18: =SUM(C18:G18) -> 0
A19: 13 | B19: Local union administration, including financial and agency fee matters & internal governance elections | H19: =SUM(C19:G19) -> 0
A20: 14 | B20: Representation, including problem solving for bargaining unit members and all legal services affecting the whole bargaining unit | H20: =SUM(C20:G20) -> 0
A21: 15 | B21: Research on District budgets and Education Code | H21: =SUM(C21:G21) -> 0
A22: 16 | B22: Educational policy and reform | H22: =SUM(C22:G22) -> 0
A23: 17 | B23: Lobbying for legislation, either related directly to the bargaining contract, or requesting by the District to get specific resources to improve the contract | H23: =SUM(C23:G23) -> 0
A24: 18 | B24: Preparation and attendance at social functions open to all, plus affiliate conventions | H24: =SUM(C24:G24) -> 0
A25: 19 | B25: Training and meetings, including BFA functions to the extent that they are chargeable activities | H25: =SUM(C25:G25) -> 0
A26: 20 | B26: Other chargeable activities (Please specify): > | H26: =SUM(C26:G26) -> 0
B28: TOTAL HOURS WORKED THIS MONTH >> | C28: =SUM(C5:C27) -> 0 | D28: =SUM(D5:D27) -> 0 | E28: =SUM(E5:E27) -> 0 | F28: =SUM(F5:F27) -> 0 | G28: =SUM(G5:G27) -> 0 | H28: =SUM(H5:H27) -> 0

Sheet May
H1: CLPFA—Monthly BILLABLE HOURS Report—Revised May 2018
A2: Name: | C2: Month: | G2: Year:
A3: > | C3: > | G3: 20____
B4: Nonchargable Activities: | C4: Week 1 | D4: Week 2 | E4: Week 3 | F4: Week 4 | G4: Week 5 | H4: Total
A5: 1 | B5: Member-only Benefits, legal services only open to members, or preparation for and attendance at member only social events | H5: =SUM(C5:G5) -> 0
A6: 2 | B6: Political Action, including endorsements and PAC activities | H6: =SUM(C6:G6) -> 0
A7: 3 | B7: Membership recruitment & helping other locals | H7: =SUM(C7:G7) -> 0
A8: 4 | B8: Good and welfare activities, including scholarship funds and donations | H8: =SUM(C8:G8) -> 0
A9: 5 | B9: Trainings and meetings, including BFA functions, to the extent that they are nonchargeable | H9: =SUM(C9:G9) -> 0
A10: 6 | B10: Lobbying, if not part of item 17 | H10: =SUM(C10:G10) -> 0
A11: 7 | B11: Public relations | H11: =SUM(C11:G11) -> 0
A12: 8 | B12: Other nonchargeable activities (Please specify): > | H12: =SUM(C12:G12) -> 0
B13: Chargeable percentage to be calculated during audit:
A14: 9 | B14: Publications or website | H14: =SUM(C14:G14) -> 0
A15: 10 | B15: Preparation for and attendance at local’s executive board or council | H15: =SUM(C15:G15) -> 0
A16: 11 | B16: Attendance at (FACCC) councils or conferences Specify: > | H16: =SUM(C16:G16) -> 0
B17: Chargeable Activities:
A18: 12 | B18: Contract negotiations, administration and enforcement, including District benefit plans | H18: =SUM(C18:G18) -> 0
A19: 13 | B19: Local union administration, including financial and agency fee matters & internal governance elections | H19: =SUM(C19:G19) -> 0
A20: 14 | B20: Representation, including problem solving for bargaining unit members and all legal services affecting the whole bargaining unit | H20: =SUM(C20:G20) -> 0
A21: 15 | B21: Research on District budgets and Education Code | H21: =SUM(C21:G21) -> 0
A22: 16 | B22: Educational policy and reform | H22: =SUM(C22:G22) -> 0
A23: 17 | B23: Lobbying for legislation, either related directly to the bargaining contract, or requesting by the District to get specific resources to improve the contract | H23: =SUM(C23:G23) -> 0
A24: 18 | B24: Preparation and attendance at social functions open to all, plus affiliate conventions | H24: =SUM(C24:G24) -> 0
A25: 19 | B25: Training and meetings, including BFA functions to the extent that they are chargeable activities | H25: =SUM(C25:G25) -> 0
A26: 20 | B26: Other chargeable activities (Please specify): > | H26: =SUM(C26:G26) -> 0
B28: TOTAL HOURS WORKED THIS MONTH >> | C28: =SUM(C5:C27) -> 0 | D28: =SUM(D5:D27) -> 0 | E28: =SUM(E5:E27) -> 0 | F28: =SUM(F5:F27) -> 0 | G28: =SUM(G5:G27) -> 0 | H28: =SUM(H5:H27) -> 0

Sheet TOTAL Jan-May
H1: CLPFA—Monthly BILLABLE HOURS Report—Revised May 2018
A2: Name: | C2: Month: | G2: Year:
A3: =Jan!A3 -> > | C3: TOTAL: Jan-May | G3: =Jan!G3 -> 20____
B4: Nonchargable Activities: | C4: Week 1 | D4: Week 2 | E4: Week 3 | F4: Week 4 | G4: Week 5 | H4: Total
A5: 1 | B5: Member-only Benefits, legal services only open to members, or preparation for and attendance at member only social events | C5: =SUM(Jan!C5,Feb!C5,Mar!C5,Apr!C5,May!C5) -> 0 | D5: =SUM(Jan!D5,Feb!D5,Mar!D5,Apr!D5,May!D5) -> 0 | E5: =SUM(Jan!E5,Feb!E5,Mar!E5,Apr!E5,May!E5) -> 0 | F5: =SUM(Jan!F5,Feb!F5,Mar!F5,Apr!F5,May!F5) -> 0 | G5: =SUM(Jan!G5,Feb!G5,Mar!G5,Apr!G5,May!G5) -> 0 | H5: =SUM(Jan!H5,Feb!H5,Mar!H5,Apr!H5,May!H5) -> 0 | K5: NOTE: this is a PROTECTED worksheet, it totals the worksheets
A6: 2 | B6: Political Action, including endorsements and PAC activities | C6: =SUM(Jan!C6,Feb!C6,Mar!C6,Apr!C6,May!C6) -> 0 | D6: =SUM(Jan!D6,Feb!D6,Mar!D6,Apr!D6,May!D6) -> 0 | E6: =SUM(Jan!E6,Feb!E6,Mar!E6,Apr!E6,May!E6) -> 0 | F6: =SUM(Jan!F6,Feb!F6,Mar!F6,Apr!F6,May!F6) -> 0 | G6: =SUM(Jan!G6,Feb!G6,Mar!G6,Apr!G6,May!G6) -> 0 | H6: =SUM(Jan!H6,Feb!H6,Mar!H6,Apr!H6,May!H6) -> 0 | L6: of Jan, Feb, Mar, Apr, May
A7: 3 | B7: Membership recruitment & helping other locals | C7: =SUM(Jan!C7,Feb!C7,Mar!C7,Apr!C7,May!C7) -> 0 | D7: =SUM(Jan!D7,Feb!D7,Mar!D7,Apr!D7,May!D7) -> 0 | E7: =SUM(Jan!E7,Feb!E7,Mar!E7,Apr!E7,May!E7) -> 0 | F7: =SUM(Jan!F7,Feb!F7,Mar!F7,Apr!F7,May!F7) -> 0 | G7: =SUM(Jan!G7,Feb!G7,Mar!G7,Apr!G7,May!G7) -> 0 | H7: =SUM(Jan!H7,Feb!H7,Mar!H7,Apr!H7,May!H7) -> 0 | L7: You cannot enter data into this worksheet
A8: 4 | B8: Good and welfare activities, including scholarship funds and donations | C8: =SUM(Jan!C8,Feb!C8,Mar!C8,Apr!C8,May!C8) -> 0 | D8: =SUM(Jan!D8,Feb!D8,Mar!D8,Apr!D8,May!D8) -> 0 | E8: =SUM(Jan!E8,Feb!E8,Mar!E8,Apr!E8,May!E8) -> 0 | F8: =SUM(Jan!F8,Feb!F8,Mar!F8,Apr!F8,May!F8) -> 0 | G8: =SUM(Jan!G8,Feb!G8,Mar!G8,Apr!G8,May!G8) -> 0 | H8: =SUM(Jan!H8,Feb!H8,Mar!H8,Apr!H8,May!H8) -> 0
A9: 5 | B9: Trainings and meetings, including BFA functions, to the extent that they are nonchargeable | C9: =SUM(Jan!C9,Feb!C9,Mar!C9,Apr!C9,May!C9) -> 0 | D9: =SUM(Jan!D9,Feb!D9,Mar!D9,Apr!D9,May!D9) -> 0 | E9: =SUM(Jan!E9,Feb!E9,Mar!E9,Apr!E9,May!E9) -> 0 | F9: =SUM(Jan!F9,Feb!F9,Mar!F9,Apr!F9,May!F9) -> 0 | G9: =SUM(Jan!G9,Feb!G9,Mar!G9,Apr!G9,May!G9) -> 0 | H9: =SUM(Jan!H9,Feb!H9,Mar!H9,Apr!H9,May!H9) -> 0
A10: 6 | B10: Lobbying, if not part of item 17 | C10: =SUM(Jan!C10,Feb!C10,Mar!C10,Apr!C10,May!C10) -> 0 | D10: =SUM(Jan!D10,Feb!D10,Mar!D10,Apr!D10,May!D10) -> 0 | E10: =SUM(Jan!E10,Feb!E10,Mar!E10,Apr!E10,May!E10) -> 0 | F10: =SUM(Jan!F10,Feb!F10,Mar!F10,Apr!F10,May!F10) -> 0 | G10: =SUM(Jan!G10,Feb!G10,Mar!G10,Apr!G10,May!G10) -> 0 | H10: =SUM(Jan!H10,Feb!H10,Mar!H10,Apr!H10,May!H10) -> 0
A11: 7 | B11: Public relations | C11: =SUM(Jan!C11,Feb!C11,Mar!C11,Apr!C11,May!C11) -> 0 | D11: =SUM(Jan!D11,Feb!D11,Mar!D11,Apr!D11,May!D11) -> 0 | E11: =SUM(Jan!E11,Feb!E11,Mar!E11,Apr!E11,May!E11) -> 0 | F11: =SUM(Jan!F11,Feb!F11,Mar!F11,Apr!F11,May!F11) -> 0 | G11: =SUM(Jan!G11,Feb!G11,Mar!G11,Apr!G11,May!G11) -> 0 | H11: =SUM(Jan!H11,Feb!H11,Mar!H11,Apr!H11,May!H11) -> 0
A12: 8 | B12: Other nonchargeable activities (Please specify): > | C12: =SUM(Jan!C12,Feb!C12,Mar!C12,Apr!C12,May!C12) -> 0 | D12: =SUM(Jan!D12,Feb!D12,Mar!D12,Apr!D12,May!D12) -> 0 | E12: =SUM(Jan!E12,Feb!E12,Mar!E12,Apr!E12,May!E12) -> 0 | F12: =SUM(Jan!F12,Feb!F12,Mar!F12,Apr!F12,May!F12) -> 0 | G12: =SUM(Jan!G12,Feb!G12,Mar!G12,Apr!G12,May!G12) -> 0 | H12: =SUM(Jan!H12,Feb!H12,Mar!H12,Apr!H12,May!H12) -> 0
B13: Chargeable percentage to be calculated during audit:
A14: 9 | B14: Publications or website | C14: =SUM(Jan!C14,Feb!C14,Mar!C14,Apr!C14,May!C14) -> 0 | D14: =SUM(Jan!D14,Feb!D14,Mar!D14,Apr!D14,May!D14) -> 0 | E14: =SUM(Jan!E14,Feb!E14,Mar!E14,Apr!E14,May!E14) -> 0 | F14: =SUM(Jan!F14,Feb!F14,Mar!F14,Apr!F14,May!F14) -> 0 | G14: =SUM(Jan!G14,Feb!G14,Mar!G14,Apr!G14,May!G14) -> 0 | H14: =SUM(Jan!H14,Feb!H14,Mar!H14,Apr!H14,May!H14) -> 0
A15: 10 | B15: Preparation for and attendance at local’s executive board or council | C15: =SUM(Jan!C15,Feb!C15,Mar!C15,Apr!C15,May!C15) -> 0 | D15: =SUM(Jan!D15,Feb!D15,Mar!D15,Apr!D15,May!D15) -> 0 | E15: =SUM(Jan!E15,Feb!E15,Mar!E15,Apr!E15,May!E15) -> 0 | F15: =SUM(Jan!F15,Feb!F15,Mar!F15,Apr!F15,May!F15) -> 0 | G15: =SUM(Jan!G15,Feb!G15,Mar!G15,Apr!G15,May!G15) -> 0 | H15: =SUM(Jan!H15,Feb!H15,Mar!H15,Apr!H15,May!H15) -> 0
A16: 11 | B16: Attendance at (FACCC) councils or conferences Specify: > | C16: =SUM(Jan!C16,Feb!C16,Mar!C16,Apr!C16,May!C16) -> 0 | D16: =SUM(Jan!D16,Feb!D16,Mar!D16,Apr!D16,May!D16) -> 0 | E16: =SUM(Jan!E16,Feb!E16,Mar!E16,Apr!E16,May!E16) -> 0 | F16: =SUM(Jan!F16,Feb!F16,Mar!F16,Apr!F16,May!F16) -> 0 | G16: =SUM(Jan!G16,Feb!G16,Mar!G16,Apr!G16,May!G16) -> 0 | H16: =SUM(Jan!H16,Feb!H16,Mar!H16,Apr!H16,May!H16) -> 0
B17: Chargeable Activities:
A18: 12 | B18: Contract negotiations, administration and enforcement, including District benefit plans | C18: =SUM(Jan!C18,Feb!C18,Mar!C18,Apr!C18,May!C18) -> 0 | D18: =SUM(Jan!D18,Feb!D18,Mar!D18,Apr!D18,May!D18) -> 0 | E18: =SUM(Jan!E18,Feb!E18,Mar!E18,Apr!E18,May!E18) -> 0 | F18: =SUM(Jan!F18,Feb!F18,Mar!F18,Apr!F18,May!F18) -> 0 | G18: =SUM(Jan!G18,Feb!G18,Mar!G18,Apr!G18,May!G18) -> 0 | H18: =SUM(Jan!H18,Feb!H18,Mar!H18,Apr!H18,May!H18) -> 0
A19: 13 | B19: Local union administration, including financial and agency fee matters & internal governance elections | C19: =SUM(Jan!C19,Feb!C19,Mar!C19,Apr!C19,May!C19) -> 0 | D19: =SUM(Jan!D19,Feb!D19,Mar!D19,Apr!D19,May!D19) -> 0 | E19: =SUM(Jan!E19,Feb!E19,Mar!E19,Apr!E19,May!E19) -> 0 | F19: =SUM(Jan!F19,Feb!F19,Mar!F19,Apr!F19,May!F19) -> 0 | G19: =SUM(Jan!G19,Feb!G19,Mar!G19,Apr!G19,May!G19) -> 0 | H19: =SUM(Jan!H19,Feb!H19,Mar!H19,Apr!H19,May!H19) -> 0
A20: 14 | B20: Representation, including problem solving for bargaining unit members and all legal services affecting the whole bargaining unit | C20: =SUM(Jan!C20,Feb!C20,Mar!C20,Apr!C20,May!C20) -> 0 | D20: =SUM(Jan!D20,Feb!D20,Mar!D20,Apr!D20,May!D20) -> 0 | E20: =SUM(Jan!E20,Feb!E20,Mar!E20,Apr!E20,May!E20) -> 0 | F20: =SUM(Jan!F20,Feb!F20,Mar!F20,Apr!F20,May!F20) -> 0 | G20: =SUM(Jan!G20,Feb!G20,Mar!G20,Apr!G20,May!G20) -> 0 | H20: =SUM(Jan!H20,Feb!H20,Mar!H20,Apr!H20,May!H20) -> 0
A21: 15 | B21: Research on District budgets and Education Code | C21: =SUM(Jan!C21,Feb!C21,Mar!C21,Apr!C21,May!C21) -> 0 | D21: =SUM(Jan!D21,Feb!D21,Mar!D21,Apr!D21,May!D21) -> 0 | E21: =SUM(Jan!E21,Feb!E21,Mar!E21,Apr!E21,May!E21) -> 0 | F21: =SUM(Jan!F21,Feb!F21,Mar!F21,Apr!F21,May!F21) -> 0 | G21: =SUM(Jan!G21,Feb!G21,Mar!G21,Apr!G21,May!G21) -> 0 | H21: =SUM(Jan!H21,Feb!H21,Mar!H21,Apr!H21,May!H21) -> 0
A22: 16 | B22: Educational policy and reform | C22: =SUM(Jan!C22,Feb!C22,Mar!C22,Apr!C22,May!C22) -> 0 | D22: =SUM(Jan!D22,Feb!D22,Mar!D22,Apr!D22,May!D22) -> 0 | E22: =SUM(Jan!E22,Feb!E22,Mar!E22,Apr!E22,May!E22) -> 0 | F22: =SUM(Jan!F22,Feb!F22,Mar!F22,Apr!F22,May!F22) -> 0 | G22: =SUM(Jan!G22,Feb!G22,Mar!G22,Apr!G22,May!G22) -> 0 | H22: =SUM(Jan!H22,Feb!H22,Mar!H22,Apr!H22,May!H22) -> 0
A23: 17 | B23: Lobbying for legislation, either related directly to the bargaining contract, or requesting by the District to get specific resources to improve the contract | C23: =SUM(Jan!C23,Feb!C23,Mar!C23,Apr!C23,May!C23) -> 0 | D23: =SUM(Jan!D23,Feb!D23,Mar!D23,Apr!D23,May!D23) -> 0 | E23: =SUM(Jan!E23,Feb!E23,Mar!E23,Apr!E23,May!E23) -> 0 | F23: =SUM(Jan!F23,Feb!F23,Mar!F23,Apr!F23,May!F23) -> 0 | G23: =SUM(Jan!G23,Feb!G23,Mar!G23,Apr!G23,May!G23) -> 0 | H23: =SUM(Jan!H23,Feb!H23,Mar!H23,Apr!H23,May!H23) -> 0
A24: 18 | B24: Preparation and attendance at social functions open to all, plus affiliate conventions | C24: =SUM(Jan!C24,Feb!C24,Mar!C24,Apr!C24,May!C24) -> 0 | D24: =SUM(Jan!D24,Feb!D24,Mar!D24,Apr!D24,May!D24) -> 0 | E24: =SUM(Jan!E24,Feb!E24,Mar!E24,Apr!E24,May!E24) -> 0 | F24: =SUM(Jan!F24,Feb!F24,Mar!F24,Apr!F24,May!F24) -> 0 | G24: =SUM(Jan!G24,Feb!G24,Mar!G24,Apr!G24,May!G24) -> 0 | H24: =SUM(Jan!H24,Feb!H24,Mar!H24,Apr!H24,May!H24) -> 0
A25: 19 | B25: Training and meetings, including BFA functions to the extent that they are chargeable activities | C25: =SUM(Jan!C25,Feb!C25,Mar!C25,Apr!C25,May!C25) -> 0 | D25: =SUM(Jan!D25,Feb!D25,Mar!D25,Apr!D25,May!D25) -> 0 | E25: =SUM(Jan!E25,Feb!E25,Mar!E25,Apr!E25,May!E25) -> 0 | F25: =SUM(Jan!F25,Feb!F25,Mar!F25,Apr!F25,May!F25) -> 0 | G25: =SUM(Jan!G25,Feb!G25,Mar!G25,Apr!G25,May!G25) -> 0 | H25: =SUM(Jan!H25,Feb!H25,Mar!H25,Apr!H25,May!H25) -> 0
A26: 20 | B26: Other chargeable activities (Please specify): > | C26: =SUM(Jan!C26,Feb!C26,Mar!C26,Apr!C26,May!C26) -> 0 | D26: =SUM(Jan!D26,Feb!D26,Mar!D26,Apr!D26,May!D26) -> 0 | E26: =SUM(Jan!E26,Feb!E26,Mar!E26,Apr!E26,May!E26) -> 0 | F26: =SUM(Jan!F26,Feb!F26,Mar!F26,Apr!F26,May!F26) -> 0 | G26: =SUM(Jan!G26,Feb!G26,Mar!G26,Apr!G26,May!G26) -> 0 | H26: =SUM(Jan!H26,Feb!H26,Mar!H26,Apr!H26,May!H26) -> 0
B28: TOTAL HOURS WORKED THIS MONTH >> | C28: =SUM(Jan!C28,Feb!C28,Mar!C28,Apr!C28,May!C28) -> 0 | D28: =SUM(Jan!D28,Feb!D28,Mar!D28,Apr!D28,May!D28) -> 0 | E28: =SUM(Jan!E28,Feb!E28,Mar!E28,Apr!E28,May!E28) -> 0 | F28: =SUM(Jan!F28,Feb!F28,Mar!F28,Apr!F28,May!F28) -> 0 | G28: =SUM(Jan!G28,Feb!G28,Mar!G28,Apr!G28,May!G28) -> 0 | H28: =SUM(Jan!H28,Feb!H28,Mar!H28,Apr!H28,May!H28) -> 0

Sheet June
H1: CLPFA—Monthly BILLABLE HOURS Report—Revised May 2018
A2: Name: | C2: Month: | G2: Year:
A3: > | C3: > | G3: 20____
B4: Nonchargable Activities: | C4: Week 1 | D4: Week 2 | E4: Week 3 | F4: Week 4 | G4: Week 5 | H4: Total
A5: 1 | B5: Member-only Benefits, legal services only open to members, or preparation for and attendance at member only social events | H5: =SUM(C5:G5) -> 0
A6: 2 | B6: Political Action, including endorsements and PAC activities | H6: =SUM(C6:G6) -> 0
A7: 3 | B7: Membership recruitment & helping other locals | H7: =SUM(C7:G7) -> 0
A8: 4 | B8: Good and welfare activities, including scholarship funds and donations | H8: =SUM(C8:G8) -> 0
A9: 5 | B9: Trainings and meetings, including BFA functions, to the extent that they are nonchargeable | H9: =SUM(C9:G9) -> 0
A10: 6 | B10: Lobbying, if not part of item 17 | H10: =SUM(C10:G10) -> 0
A11: 7 | B11: Public relations | H11: =SUM(C11:G11) -> 0
A12: 8 | B12: Other nonchargeable activities (Please specify): > | H12: =SUM(C12:G12) -> 0
B13: Chargeable percentage to be calculated during audit:
A14: 9 | B14: Publications or website | H14: =SUM(C14:G14) -> 0
A15: 10 | B15: Preparation for and attendance at local’s executive board or council | H15: =SUM(C15:G15) -> 0
A16: 11 | B16: Attendance at (FACCC) councils or conferences Specify: > | H16: =SUM(C16:G16) -> 0
B17: Chargeable Activities:
A18: 12 | B18: Contract negotiations, administration and enforcement, including District benefit plans | H18: =SUM(C18:G18) -> 0
A19: 13 | B19: Local union administration, including financial and agency fee matters & internal governance elections | H19: =SUM(C19:G19) -> 0
A20: 14 | B20: Representation, including problem solving for bargaining unit members and all legal services affecting the whole bargaining unit | H20: =SUM(C20:G20) -> 0
A21: 15 | B21: Research on District budgets and Education Code | H21: =SUM(C21:G21) -> 0
A22: 16 | B22: Educational policy and reform | H22: =SUM(C22:G22) -> 0
A23: 17 | B23: Lobbying for legislation, either related directly to the bargaining contract, or requesting by the District to get specific resources to improve the contract | H23: =SUM(C23:G23) -> 0
A24: 18 | B24: Preparation and attendance at social functions open to all, plus affiliate conventions | H24: =SUM(C24:G24) -> 0
A25: 19 | B25: Training and meetings, including BFA functions to the extent that they are chargeable activities | H25: =SUM(C25:G25) -> 0
A26: 20 | B26: Other chargeable activities (Please specify): > | H26: =SUM(C26:G26) -> 0
B28: TOTAL HOURS WORKED THIS MONTH >> | C28: =SUM(C5:C27) -> 0 | D28: =SUM(D5:D27) -> 0 | E28: =SUM(E5:E27) -> 0 | F28: =SUM(F5:F27) -> 0 | G28: =SUM(G5:G27) -> 0 | H28: =SUM(H5:H27) -> 0

Sheet July
H1: CLPFA—Monthly BILLABLE HOURS Report—Revised May 2018
A2: Name: | C2: Month: | G2: Year:
A3: > | C3: > | G3: 20____
B4: Nonchargable Activities: | C4: Week 1 | D4: Week 2 | E4: Week 3 | F4: Week 4 | G4: Week 5 | H4: Total
A5: 1 | B5: Member-only Benefits, legal services only open to members, or preparation for and attendance at member only social events | H5: =SUM(C5:G5) -> 0
A6: 2 | B6: Political Action, including endorsements and PAC activities | H6: =SUM(C6:G6) -> 0
A7: 3 | B7: Membership recruitment & helping other locals | H7: =SUM(C7:G7) -> 0
A8: 4 | B8: Good and welfare activities, including scholarship funds and donations | H8: =SUM(C8:G8) -> 0
A9: 5 | B9: Trainings and meetings, including BFA functions, to the extent that they are nonchargeable | H9: =SUM(C9:G9) -> 0
A10: 6 | B10: Lobbying, if not part of item 17 | H10: =SUM(C10:G10) -> 0
A11: 7 | B11: Public relations | H11: =SUM(C11:G11) -> 0
A12: 8 | B12: Other nonchargeable activities (Please specify): > | H12: =SUM(C12:G12) -> 0
B13: Chargeable percentage to be calculated during audit:
A14: 9 | B14: Publications or website | H14: =SUM(C14:G14) -> 0
A15: 10 | B15: Preparation for and attendance at local’s executive board or council | H15: =SUM(C15:G15) -> 0
A16: 11 | B16: Attendance at (FACCC) councils or conferences Specify: > | H16: =SUM(C16:G16) -> 0
B17: Chargeable Activities:
A18: 12 | B18: Contract negotiations, administration and enforcement, including District benefit plans | H18: =SUM(C18:G18) -> 0
A19: 13 | B19: Local union administration, including financial and agency fee matters & internal governance elections | H19: =SUM(C19:G19) -> 0
A20: 14 | B20: Representation, including problem solving for bargaining unit members and all legal services affecting the whole bargaining unit | H20: =SUM(C20:G20) -> 0
A21: 15 | B21: Research on District budgets and Education Code | H21: =SUM(C21:G21) -> 0
A22: 16 | B22: Educational policy and reform | H22: =SUM(C22:G22) -> 0
A23: 17 | B23: Lobbying for legislation, either related directly to the bargaining contract, or requesting by the District to get specific resources to improve the contract | H23: =SUM(C23:G23) -> 0
A24: 18 | B24: Preparation and attendance at social functions open to all, plus affiliate conventions | H24: =SUM(C24:G24) -> 0
A25: 19 | B25: Training and meetings, including BFA functions to the extent that they are chargeable activities | H25: =SUM(C25:G25) -> 0
A26: 20 | B26: Other chargeable activities (Please specify): > | H26: =SUM(C26:G26) -> 0
B28: TOTAL HOURS WORKED THIS MONTH >> | C28: =SUM(C5:C27) -> 0 | D28: =SUM(D5:D27) -> 0 | E28: =SUM(E5:E27) -> 0 | F28: =SUM(F5:F27) -> 0 | G28: =SUM(G5:G27) -> 0 | H28: =SUM(H5:H27) -> 0

Sheet Aug
H1: CLPFA—Monthly BILLABLE HOURS Report—Revised May 2018
A2: Name: | C2: Month: | G2: Year:
A3: > | C3: > | G3: 20____
B4: Nonchargable Activities: | C4: Week 1 | D4: Week 2 | E4: Week 3 | F4: Week 4 | G4: Week 5 | H4: Total
A5: 1 | B5: Member-only Benefits, legal services only open to members, or preparation for and attendance at member only social events | H5: =SUM(C5:G5) -> 0
A6: 2 | B6: Political Action, including endorsements and PAC activities | H6: =SUM(C6:G6) -> 0
A7: 3 | B7: Membership recruitment & helping other locals | H7: =SUM(C7:G7) -> 0
A8: 4 | B8: Good and welfare activities, including scholarship funds and donations | H8: =SUM(C8:G8) -> 0
A9: 5 | B9: Trainings and meetings, including BFA functions, to the extent that they are nonchargeable | H9: =SUM(C9:G9) -> 0
A10: 6 | B10: Lobbying, if not part of item 17 | H10: =SUM(C10:G10) -> 0
A11: 7 | B11: Public relations | H11: =SUM(C11:G11) -> 0
A12: 8 | B12: Other nonchargeable activities (Please specify): > | H12: =SUM(C12:G12) -> 0
B13: Chargeable percentage to be calculated during audit:
A14: 9 | B14: Publications or website | H14: =SUM(C14:G14) -> 0
A15: 10 | B15: Preparation for and attendance at local’s executive board or council | H15: =SUM(C15:G15) -> 0
A16: 11 | B16: Attendance at (FACCC) councils or conferences Specify: > | H16: =SUM(C16:G16) -> 0
B17: Chargeable Activities:
A18: 12 | B18: Contract negotiations, administration and enforcement, including District benefit plans | H18: =SUM(C18:G18) -> 0
A19: 13 | B19: Local union administration, including financial and agency fee matters & internal governance elections | H19: =SUM(C19:G19) -> 0
A20: 14 | B20: Representation, including problem solving for bargaining unit members and all legal services affecting the whole bargaining unit | H20: =SUM(C20:G20) -> 0
A21: 15 | B21: Research on District budgets and Education Code | H21: =SUM(C21:G21) -> 0
A22: 16 | B22: Educational policy and reform | H22: =SUM(C22:G22) -> 0
A23: 17 | B23: Lobbying for legislation, either related directly to the bargaining contract, or requesting by the District to get specific resources to improve the contract | H23: =SUM(C23:G23) -> 0
A24: 18 | B24: Preparation and attendance at social functions open to all, plus affiliate conventions | H24: =SUM(C24:G24) -> 0
A25: 19 | B25: Training and meetings, including BFA functions to the extent that they are chargeable activities | H25: =SUM(C25:G25) -> 0
A26: 20 | B26: Other chargeable activities (Please specify): > | H26: =SUM(C26:G26) -> 0
B28: TOTAL HOURS WORKED THIS MONTH >> | C28: =SUM(C5:C27) -> 0 | D28: =SUM(D5:D27) -> 0 | E28: =SUM(E5:E27) -> 0 | F28: =SUM(F5:F27) -> 0 | G28: =SUM(G5:G27) -> 0 | H28: =SUM(H5:H27) -> 0

Sheet Sept
H1: CLPFA—Monthly BILLABLE HOURS Report—Revised May 2018
A2: Name: | C2: Month: | G2: Year:
A3: > | C3: > | G3: 20____
B4: Nonchargable Activities: | C4: Week 1 | D4: Week 2 | E4: Week 3 | F4: Week 4 | G4: Week 5 | H4: Total
A5: 1 | B5: Member-only Benefits, legal services only open to members, or preparation for and attendance at member only social events | H5: =SUM(C5:G5) -> 0
A6: 2 | B6: Political Action, including endorsements and PAC activities | H6: =SUM(C6:G6) -> 0
A7: 3 | B7: Membership recruitment & helping other locals | H7: =SUM(C7:G7) -> 0
A8: 4 | B8: Good and welfare activities, including scholarship funds and donations | H8: =SUM(C8:G8) -> 0
A9: 5 | B9: Trainings and meetings, including BFA functions, to the extent that they are nonchargeable | H9: =SUM(C9:G9) -> 0
A10: 6 | B10: Lobbying, if not part of item 17 | H10: =SUM(C10:G10) -> 0
A11: 7 | B11: Public relations | H11: =SUM(C11:G11) -> 0
A12: 8 | B12: Other nonchargeable activities (Please specify): > | H12: =SUM(C12:G12) -> 0
B13: Chargeable percentage to be calculated during audit:
A14: 9 | B14: Publications or website | H14: =SUM(C14:G14) -> 0
A15: 10 | B15: Preparation for and attendance at local’s executive board or council | H15: =SUM(C15:G15) -> 0
A16: 11 | B16: Attendance at (FACCC) councils or conferences Specify: > | H16: =SUM(C16:G16) -> 0
B17: Chargeable Activities:
A18: 12 | B18: Contract negotiations, administration and enforcement, including District benefit plans | H18: =SUM(C18:G18) -> 0
A19: 13 | B19: Local union administration, including financial and agency fee matters & internal governance elections | H19: =SUM(C19:G19) -> 0
A20: 14 | B20: Representation, including problem solving for bargaining unit members and all legal services affecting the whole bargaining unit | H20: =SUM(C20:G20) -> 0
A21: 15 | B21: Research on District budgets and Education Code | H21: =SUM(C21:G21) -> 0
A22: 16 | B22: Educational policy and reform | H22: =SUM(C22:G22) -> 0
A23: 17 | B23: Lobbying for legislation, either related directly to the bargaining contract, or requesting by the District to get specific resources to improve the contract | H23: =SUM(C23:G23) -> 0
A24: 18 | B24: Preparation and attendance at social functions open to all, plus affiliate conventions | H24: =SUM(C24:G24) -> 0
A25: 19 | B25: Training and meetings, including BFA functions to the extent that they are chargeable activities | H25: =SUM(C25:G25) -> 0
A26: 20 | B26: Other chargeable activities (Please specify): > | H26: =SUM(C26:G26) -> 0
B28: TOTAL HOURS WORKED THIS MONTH >> | C28: =SUM(C5:C27) -> 0 | D28: =SUM(D5:D27) -> 0 | E28: =SUM(E5:E27) -> 0 | F28: =SUM(F5:F27) -> 0 | G28: =SUM(G5:G27) -> 0 | H28: =SUM(H5:H27) -> 0

Sheet Oct
H1: CLPFA—Monthly BILLABLE HOURS Report—Revised May 2018
A2: Name: | C2: Month: | G2: Year:
A3: > | C3: > | G3: 20____
B4: Nonchargable Activities: | C4: Week 1 | D4: Week 2 | E4: Week 3 | F4: Week 4 | G4: Week 5 | H4: Total
A5: 1 | B5: Member-only Benefits, legal services only open to members, or preparation for and attendance at member only social events | H5: =SUM(C5:G5) -> 0
A6: 2 | B6: Political Action, including endorsements and PAC activities | H6: =SUM(C6:G6) -> 0
A7: 3 | B7: Membership recruitment & helping other locals | H7: =SUM(C7:G7) -> 0
A8: 4 | B8: Good and welfare activities, including scholarship funds and donations | H8: =SUM(C8:G8) -> 0
A9: 5 | B9: Trainings and meetings, including BFA functions, to the extent that they are nonchargeable | H9: =SUM(C9:G9) -> 0
A10: 6 | B10: Lobbying, if not part of item 17 | H10: =SUM(C10:G10) -> 0
A11: 7 | B11: Public relations | H11: =SUM(C11:G11) -> 0
A12: 8 | B12: Other nonchargeable activities (Please specify): > | H12: =SUM(C12:G12) -> 0
B13: Chargeable percentage to be calculated during audit:
A14: 9 | B14: Publications or website | H14: =SUM(C14:G14) -> 0
A15: 10 | B15: Preparation for and attendance at local’s executive board or council | H15: =SUM(C15:G15) -> 0
A16: 11 | B16: Attendance at (FACCC) councils or conferences Specify: > | H16: =SUM(C16:G16) -> 0
B17: Chargeable Activities:
A18: 12 | B18: Contract negotiations, administration and enforcement, including District benefit plans | H18: =SUM(C18:G18) -> 0
A19: 13 | B19: Local union administration, including financial and agency fee matters & internal governance elections | H19: =SUM(C19:G19) -> 0
A20: 14 | B20: Representation, including problem solving for bargaining unit members and all legal services affecting the whole bargaining unit | H20: =SUM(C20:G20) -> 0
A21: 15 | B21: Research on District budgets and Education Code | H21: =SUM(C21:G21) -> 0
A22: 16 | B22: Educational policy and reform | H22: =SUM(C22:G22) -> 0
A23: 17 | B23: Lobbying for legislation, either related directly to the bargaining contract, or requesting by the District to get specific resources to improve the contract | H23: =SUM(C23:G23) -> 0
A24: 18 | B24: Preparation and attendance at social functions open to all, plus affiliate conventions | H24: =SUM(C24:G24) -> 0
A25: 19 | B25: Training and meetings, including BFA functions to the extent that they are chargeable activities | H25: =SUM(C25:G25) -> 0
A26: 20 | B26: Other chargeable activities (Please specify): > | H26: =SUM(C26:G26) -> 0
B28: TOTAL HOURS WORKED THIS MONTH >> | C28: =SUM(C5:C27) -> 0 | D28: =SUM(D5:D27) -> 0 | E28: =SUM(E5:E27) -> 0 | F28: =SUM(F5:F27) -> 0 | G28: =SUM(G5:G27) -> 0 | H28: =SUM(H5:H27) -> 0

Sheet Nov
H1: CLPFA—Monthly BILLABLE HOURS Report—Revised May 2018
A2: Name: | C2: Month: | G2: Year:
A3: > | C3: > | G3: 20____
B4: Nonchargable Activities: | C4: Week 1 | D4: Week 2 | E4: Week 3 | F4: Week 4 | G4: Week 5 | H4: Total
A5: 1 | B5: Member-only Benefits, legal services only open to members, or preparation for and attendance at member only social events | H5: =SUM(C5:G5) -> 0
A6: 2 | B6: Political Action, including endorsements and PAC activities | H6: =SUM(C6:G6) -> 0
A7: 3 | B7: Membership recruitment & helping other locals | H7: =SUM(C7:G7) -> 0
A8: 4 | B8: Good and welfare activities, including scholarship funds and donations | H8: =SUM(C8:G8) -> 0
A9: 5 | B9: Trainings and meetings, including BFA functions, to the extent that they are nonchargeable | H9: =SUM(C9:G9) -> 0
A10: 6 | B10: Lobbying, if not part of item 17 | H10: =SUM(C10:G10) -> 0
A11: 7 | B11: Public relations | H11: =SUM(C11:G11) -> 0
A12: 8 | B12: Other nonchargeable activities (Please specify): > | H12: =SUM(C12:G12) -> 0
B13: Chargeable percentage to be calculated during audit:
A14: 9 | B14: Publications or website | H14: =SUM(C14:G14) -> 0
A15: 10 | B15: Preparation for and attendance at local’s executive board or council | H15: =SUM(C15:G15) -> 0
A16: 11 | B16: Attendance at (FACCC) councils or conferences Specify: > | H16: =SUM(C16:G16) -> 0
B17: Chargeable Activities:
A18: 12 | B18: Contract negotiations, administration and enforcement, including District benefit plans | H18: =SUM(C18:G18) -> 0
A19: 13 | B19: Local union administration, including financial and agency fee matters & internal governance elections | H19: =SUM(C19:G19) -> 0
A20: 14 | B20: Representation, including problem solving for bargaining unit members and all legal services affecting the whole bargaining unit | H20: =SUM(C20:G20) -> 0
A21: 15 | B21: Research on District budgets and Education Code | H21: =SUM(C21:G21) -> 0
A22: 16 | B22: Educational policy and reform | H22: =SUM(C22:G22) -> 0
A23: 17 | B23: Lobbying for legislation, either related directly to the bargaining contract, or requesting by the District to get specific resources to improve the contract | H23: =SUM(C23:G23) -> 0
A24: 18 | B24: Preparation and attendance at social functions open to all, plus affiliate conventions | H24: =SUM(C24:G24) -> 0
A25: 19 | B25: Training and meetings, including BFA functions to the extent that they are chargeable activities | H25: =SUM(C25:G25) -> 0
A26: 20 | B26: Other chargeable activities (Please specify): > | H26: =SUM(C26:G26) -> 0
B28: TOTAL HOURS WORKED THIS MONTH >> | C28: =SUM(C5:C27) -> 0 | D28: =SUM(D5:D27) -> 0 | E28: =SUM(E5:E27) -> 0 | F28: =SUM(F5:F27) -> 0 | G28: =SUM(G5:G27) -> 0 | H28: =SUM(H5:H27) -> 0

Sheet Dec
H1: CLPFA—Monthly BILLABLE HOURS Report—Revised May 2018
A2: Name: | C2: Month: | G2: Year:
A3: > | C3: > | G3: 20____
B4: Nonchargable Activities: | C4: Week 1 | D4: Week 2 | E4: Week 3 | F4: Week 4 | G4: Week 5 | H4: Total
A5: 1 | B5: Member-only Benefits, legal services only open to members, or preparation for and attendance at member only social events | H5: =SUM(C5:G5) -> 0
A6: 2 | B6: Political Action, including endorsements and PAC activities | H6: =SUM(C6:G6) -> 0
A7: 3 | B7: Membership recruitment & helping other locals | H7: =SUM(C7:G7) -> 0
A8: 4 | B8: Good and welfare activities, including scholarship funds and donations | H8: =SUM(C8:G8) -> 0
A9: 5 | B9: Trainings and meetings, including BFA functions, to the extent that they are nonchargeable | H9: =SUM(C9:G9) -> 0
A10: 6 | B10: Lobbying, if not part of item 17 | H10: =SUM(C10:G10) -> 0
A11: 7 | B11: Public relations | H11: =SUM(C11:G11) -> 0
A12: 8 | B12: Other nonchargeable activities (Please specify): > | H12: =SUM(C12:G12) -> 0
B13: Chargeable percentage to be calculated during audit:
A14: 9 | B14: Publications or website | H14: =SUM(C14:G14) -> 0
A15: 10 | B15: Preparation for and attendance at local’s executive board or council | H15: =SUM(C15:G15) -> 0
A16: 11 | B16: Attendance at (FACCC) councils or conferences Specify: > | H16: =SUM(C16:G16) -> 0
B17: Chargeable Activities:
A18: 12 | B18: Contract negotiations, administration and enforcement, including District benefit plans | H18: =SUM(C18:G18) -> 0
A19: 13 | B19: Local union administration, including financial and agency fee matters & internal governance elections | H19: =SUM(C19:G19) -> 0
A20: 14 | B20: Representation, including problem solving for bargaining unit members and all legal services affecting the whole bargaining unit | H20: =SUM(C20:G20) -> 0
A21: 15 | B21: Research on District budgets and Education Code | H21: =SUM(C21:G21) -> 0
A22: 16 | B22: Educational policy and reform | H22: =SUM(C22:G22) -> 0
A23: 17 | B23: Lobbying for legislation, either related directly to the bargaining contract, or requesting by the District to get specific resources to improve the contract | H23: =SUM(C23:G23) -> 0
A24: 18 | B24: Preparation and attendance at social functions open to all, plus affiliate conventions | H24: =SUM(C24:G24) -> 0
A25: 19 | B25: Training and meetings, including BFA functions to the extent that they are chargeable activities | H25: =SUM(C25:G25) -> 0
A26: 20 | B26: Other chargeable activities (Please specify): > | H26: =SUM(C26:G26) -> 0
B28: TOTAL HOURS WORKED THIS MONTH >> | C28: =SUM(C5:C27) -> 0 | D28: =SUM(D5:D27) -> 0 | E28: =SUM(E5:E27) -> 0 | F28: =SUM(F5:F27) -> 0 | G28: =SUM(G5:G27) -> 0 | H28: =SUM(H5:H27) -> 0

Sheet TOTAL June-Dec
H1: CLPFA—Monthly BILLABLE HOURS Report—Revised May 2018
A2: Name: | C2: Month: | G2: Year:
A3: =Aug!A3 -> > | C3: TOTAL: June-Dec | G3: =Aug!G3 -> 20____
B4: Nonchargable Activities: | C4: Week 1 | D4: Week 2 | E4: Week 3 | F4: Week 4 | G4: Week 5 | H4: Total
A5: 1 | B5: Member-only Benefits, legal services only open to members, or preparation for and attendance at member only social events | C5: =SUM(June!C5,July!C5,Aug!C5,Sept!C5,Oct!C5,Nov!C5,Dec!C5) -> 0 | D5: =SUM(June!D5,July!D5,Aug!D5,Sept!D5,Oct!D5,Nov!D5,Dec!D5) -> 0 | E5: =SUM(June!E5,July!E5,Aug!E5,Sept!E5,Oct!E5,Nov!E5,Dec!E5) -> 0 | F5: =SUM(June!F5,July!F5,Aug!F5,Sept!F5,Oct!F5,Nov!F5,Dec!F5) -> 0 | G5: =SUM(June!G5,July!G5,Aug!G5,Sept!G5,Oct!G5,Nov!G5,Dec!G5) -> 0 | H5: =SUM(June!H5,July!H5,Aug!H5,Sept!H5,Oct!H5,Nov!H5,Dec!H5) -> 0 | K5: NOTE: this is a PROTECTED worksheet, it totals the worksheets
A6: 2 | B6: Political Action, including endorsements and PAC activities | C6: =SUM(June!C6,July!C6,Aug!C6,Sept!C6,Oct!C6,Nov!C6,Dec!C6) -> 0 | D6: =SUM(June!D6,July!D6,Aug!D6,Sept!D6,Oct!D6,Nov!D6,Dec!D6) -> 0 | E6: =SUM(June!E6,July!E6,Aug!E6,Sept!E6,Oct!E6,Nov!E6,Dec!E6) -> 0 | F6: =SUM(June!F6,July!F6,Aug!F6,Sept!F6,Oct!F6,Nov!F6,Dec!F6) -> 0 | G6: =SUM(June!G6,July!G6,Aug!G6,Sept!G6,Oct!G6,Nov!G6,Dec!G6) -> 0 | H6: =SUM(June!H6,July!H6,Aug!H6,Sept!H6,Oct!H6,Nov!H6,Dec!H6) -> 0 | L6: of June, July, Aug, Sept, Oct, Nov, Dec
A7: 3 | B7: Membership recruitment & helping other locals | C7: =SUM(June!C7,July!C7,Aug!C7,Sept!C7,Oct!C7,Nov!C7,Dec!C7) -> 0 | D7: =SUM(June!D7,July!D7,Aug!D7,Sept!D7,Oct!D7,Nov!D7,Dec!D7) -> 0 | E7: =SUM(June!E7,July!E7,Aug!E7,Sept!E7,Oct!E7,Nov!E7,Dec!E7) -> 0 | F7: =SUM(June!F7,July!F7,Aug!F7,Sept!F7,Oct!F7,Nov!F7,Dec!F7) -> 0 | G7: =SUM(June!G7,July!G7,Aug!G7,Sept!G7,Oct!G7,Nov!G7,Dec!G7) -> 0 | H7: =SUM(June!H7,July!H7,Aug!H7,Sept!H7,Oct!H7,Nov!H7,Dec!H7) -> 0 | L7: You cannot enter data into this worksheet
A8: 4 | B8: Good and welfare activities, including scholarship funds and donations | C8: =SUM(June!C8,July!C8,Aug!C8,Sept!C8,Oct!C8,Nov!C8,Dec!C8) -> 0 | D8: =SUM(June!D8,July!D8,Aug!D8,Sept!D8,Oct!D8,Nov!D8,Dec!D8) -> 0 | E8: =SUM(June!E8,July!E8,Aug!E8,Sept!E8,Oct!E8,Nov!E8,Dec!E8) -> 0 | F8: =SUM(June!F8,July!F8,Aug!F8,Sept!F8,Oct!F8,Nov!F8,Dec!F8) -> 0 | G8: =SUM(June!G8,July!G8,Aug!G8,Sept!G8,Oct!G8,Nov!G8,Dec!G8) -> 0 | H8: =SUM(June!H8,July!H8,Aug!H8,Sept!H8,Oct!H8,Nov!H8,Dec!H8) -> 0
A9: 5 | B9: Trainings and meetings, including BFA functions, to the extent that they are nonchargeable | C9: =SUM(June!C9,July!C9,Aug!C9,Sept!C9,Oct!C9,Nov!C9,Dec!C9) -> 0 | D9: =SUM(June!D9,July!D9,Aug!D9,Sept!D9,Oct!D9,Nov!D9,Dec!D9) -> 0 | E9: =SUM(June!E9,July!E9,Aug!E9,Sept!E9,Oct!E9,Nov!E9,Dec!E9) -> 0 | F9: =SUM(June!F9,July!F9,Aug!F9,Sept!F9,Oct!F9,Nov!F9,Dec!F9) -> 0 | G9: =SUM(June!G9,July!G9,Aug!G9,Sept!G9,Oct!G9,Nov!G9,Dec!G9) -> 0 | H9: =SUM(June!H9,July!H9,Aug!H9,Sept!H9,Oct!H9,Nov!H9,Dec!H9) -> 0
A10: 6 | B10: Lobbying, if not part of item 17 | C10: =SUM(June!C10,July!C10,Aug!C10,Sept!C10,Oct!C10,Nov!C10,Dec!C10) -> 0 | D10: =SUM(June!D10,July!D10,Aug!D10,Sept!D10,Oct!D10,Nov!D10,Dec!D10) -> 0 | E10: =SUM(June!E10,July!E10,Aug!E10,Sept!E10,Oct!E10,Nov!E10,Dec!E10) -> 0 | F10: =SUM(June!F10,July!F10,Aug!F10,Sept!F10,Oct!F10,Nov!F10,Dec!F10) -> 0 | G10: =SUM(June!G10,July!G10,Aug!G10,Sept!G10,Oct!G10,Nov!G10,Dec!G10) -> 0 | H10: =SUM(June!H10,July!H10,Aug!H10,Sept!H10,Oct!H10,Nov!H10,Dec!H10) -> 0
A11: 7 | B11: Public relations | C11: =SUM(June!C11,July!C11,Aug!C11,Sept!C11,Oct!C11,Nov!C11,Dec!C11) -> 0 | D11: =SUM(June!D11,July!D11,Aug!D11,Sept!D11,Oct!D11,Nov!D11,Dec!D11) -> 0 | E11: =SUM(June!E11,July!E11,Aug!E11,Sept!E11,Oct!E11,Nov!E11,Dec!E11) -> 0 | F11: =SUM(June!F11,July!F11,Aug!F11,Sept!F11,Oct!F11,Nov!F11,Dec!F11) -> 0 | G11: =SUM(June!G11,July!G11,Aug!G11,Sept!G11,Oct!G11,Nov!G11,Dec!G11) -> 0 | H11: =SUM(June!H11,July!H11,Aug!H11,Sept!H11,Oct!H11,Nov!H11,Dec!H11) -> 0
A12: 8 | B12: Other nonchargeable activities (Please specify): > | C12: =SUM(June!C12,July!C12,Aug!C12,Sept!C12,Oct!C12,Nov!C12,Dec!C12) -> 0 | D12: =SUM(June!D12,July!D12,Aug!D12,Sept!D12,Oct!D12,Nov!D12,Dec!D12) -> 0 | E12: =SUM(June!E12,July!E12,Aug!E12,Sept!E12,Oct!E12,Nov!E12,Dec!E12) -> 0 | F12: =SUM(June!F12,July!F12,Aug!F12,Sept!F12,Oct!F12,Nov!F12,Dec!F12) -> 0 | G12: =SUM(June!G12,July!G12,Aug!G12,Sept!G12,Oct!G12,Nov!G12,Dec!G12) -> 0 | H12: =SUM(June!H12,July!H12,Aug!H12,Sept!H12,Oct!H12,Nov!H12,Dec!H12) -> 0
B13: Chargeable percentage to be calculated during audit:
A14: 9 | B14: Publications or website | C14: =SUM(June!C14,July!C14,Aug!C14,Sept!C14,Oct!C14,Nov!C14,Dec!C14) -> 0 | D14: =SUM(June!D14,July!D14,Aug!D14,Sept!D14,Oct!D14,Nov!D14,Dec!D14) -> 0 | E14: =SUM(June!E14,July!E14,Aug!E14,Sept!E14,Oct!E14,Nov!E14,Dec!E14) -> 0 | F14: =SUM(June!F14,July!F14,Aug!F14,Sept!F14,Oct!F14,Nov!F14,Dec!F14) -> 0 | G14: =SUM(June!G14,July!G14,Aug!G14,Sept!G14,Oct!G14,Nov!G14,Dec!G14) -> 0 | H14: =SUM(June!H14,July!H14,Aug!H14,Sept!H14,Oct!H14,Nov!H14,Dec!H14) -> 0
A15: 10 | B15: Preparation for and attendance at local’s executive board or council | C15: =SUM(June!C15,July!C15,Aug!C15,Sept!C15,Oct!C15,Nov!C15,Dec!C15) -> 0 | D15: =SUM(June!D15,July!D15,Aug!D15,Sept!D15,Oct!D15,Nov!D15,Dec!D15) -> 0 | E15: =SUM(June!E15,July!E15,Aug!E15,Sept!E15,Oct!E15,Nov!E15,Dec!E15) -> 0 | F15: =SUM(June!F15,July!F15,Aug!F15,Sept!F15,Oct!F15,Nov!F15,Dec!F15) -> 0 | G15: =SUM(June!G15,July!G15,Aug!G15,Sept!G15,Oct!G15,Nov!G15,Dec!G15) -> 0 | H15: =SUM(June!H15,July!H15,Aug!H15,Sept!H15,Oct!H15,Nov!H15,Dec!H15) -> 0
A16: 11 | B16: Attendance at (FACCC) councils or conferences Specify: > | C16: =SUM(June!C16,July!C16,Aug!C16,Sept!C16,Oct!C16,Nov!C16,Dec!C16) -> 0 | D16: =SUM(June!D16,July!D16,Aug!D16,Sept!D16,Oct!D16,Nov!D16,Dec!D16) -> 0 | E16: =SUM(June!E16,July!E16,Aug!E16,Sept!E16,Oct!E16,Nov!E16,Dec!E16) -> 0 | F16: =SUM(June!F16,July!F16,Aug!F16,Sept!F16,Oct!F16,Nov!F16,Dec!F16) -> 0 | G16: =SUM(June!G16,July!G16,Aug!G16,Sept!G16,Oct!G16,Nov!G16,Dec!G16) -> 0 | H16: =SUM(June!H16,July!H16,Aug!H16,Sept!H16,Oct!H16,Nov!H16,Dec!H16) -> 0
B17: Chargeable Activities:
A18: 12 | B18: Contract negotiations, administration and enforcement, including District benefit plans | C18: =SUM(June!C18,July!C18,Aug!C18,Sept!C18,Oct!C18,Nov!C18,Dec!C18) -> 0 | D18: =SUM(June!D18,July!D18,Aug!D18,Sept!D18,Oct!D18,Nov!D18,Dec!D18) -> 0 | E18: =SUM(June!E18,July!E18,Aug!E18,Sept!E18,Oct!E18,Nov!E18,Dec!E18) -> 0 | F18: =SUM(June!F18,July!F18,Aug!F18,Sept!F18,Oct!F18,Nov!F18,Dec!F18) -> 0 | G18: =SUM(June!G18,July!G18,Aug!G18,Sept!G18,Oct!G18,Nov!G18,Dec!G18) -> 0 | H18: =SUM(June!H18,July!H18,Aug!H18,Sept!H18,Oct!H18,Nov!H18,Dec!H18) -> 0
A19: 13 | B19: Local union administration, including financial and agency fee matters & internal governance elections | C19: =SUM(June!C19,July!C19,Aug!C19,Sept!C19,Oct!C19,Nov!C19,Dec!C19) -> 0 | D19: =SUM(June!D19,July!D19,Aug!D19,Sept!D19,Oct!D19,Nov!D19,Dec!D19) -> 0 | E19: =SUM(June!E19,July!E19,Aug!E19,Sept!E19,Oct!E19,Nov!E19,Dec!E19) -> 0 | F19: =SUM(June!F19,July!F19,Aug!F19,Sept!F19,Oct!F19,Nov!F19,Dec!F19) -> 0 | G19: =SUM(June!G19,July!G19,Aug!G19,Sept!G19,Oct!G19,Nov!G19,Dec!G19) -> 0 | H19: =SUM(June!H19,July!H19,Aug!H19,Sept!H19,Oct!H19,Nov!H19,Dec!H19) -> 0
A20: 14 | B20: Representation, including problem solving for bargaining unit members and all legal services affecting the whole bargaining unit | C20: =SUM(June!C20,July!C20,Aug!C20,Sept!C20,Oct!C20,Nov!C20,Dec!C20) -> 0 | D20: =SUM(June!D20,July!D20,Aug!D20,Sept!D20,Oct!D20,Nov!D20,Dec!D20) -> 0 | E20: =SUM(June!E20,July!E20,Aug!E20,Sept!E20,Oct!E20,Nov!E20,Dec!E20) -> 0 | F20: =SUM(June!F20,July!F20,Aug!F20,Sept!F20,Oct!F20,Nov!F20,Dec!F20) -> 0 | G20: =SUM(June!G20,July!G20,Aug!G20,Sept!G20,Oct!G20,Nov!G20,Dec!G20) -> 0 | H20: =SUM(June!H20,July!H20,Aug!H20,Sept!H20,Oct!H20,Nov!H20,Dec!H20) -> 0
A21: 15 | B21: Research on District budgets and Education Code | C21: =SUM(June!C21,July!C21,Aug!C21,Sept!C21,Oct!C21,Nov!C21,Dec!C21) -> 0 | D21: =SUM(June!D21,July!D21,Aug!D21,Sept!D21,Oct!D21,Nov!D21,Dec!D21) -> 0 | E21: =SUM(June!E21,July!E21,Aug!E21,Sept!E21,Oct!E21,Nov!E21,Dec!E21) -> 0 | F21: =SUM(June!F21,July!F21,Aug!F21,Sept!F21,Oct!F21,Nov!F21,Dec!F21) -> 0 | G21: =SUM(June!G21,July!G21,Aug!G21,Sept!G21,Oct!G21,Nov!G21,Dec!G21) -> 0 | H21: =SUM(June!H21,July!H21,Aug!H21,Sept!H21,Oct!H21,Nov!H21,Dec!H21) -> 0
A22: 16 | B22: Educational policy and reform | C22: =SUM(June!C22,July!C22,Aug!C22,Sept!C22,Oct!C22,Nov!C22,Dec!C22) -> 0 | D22: =SUM(June!D22,July!D22,Aug!D22,Sept!D22,Oct!D22,Nov!D22,Dec!D22) -> 0 | E22: =SUM(June!E22,July!E22,Aug!E22,Sept!E22,Oct!E22,Nov!E22,Dec!E22) -> 0 | F22: =SUM(June!F22,July!F22,Aug!F22,Sept!F22,Oct!F22,Nov!F22,Dec!F22) -> 0 | G22: =SUM(June!G22,July!G22,Aug!G22,Sept!G22,Oct!G22,Nov!G22,Dec!G22) -> 0 | H22: =SUM(June!H22,July!H22,Aug!H22,Sept!H22,Oct!H22,Nov!H22,Dec!H22) -> 0
A23: 17 | B23: Lobbying for legislation, either related directly to the bargaining contract, or requesting by the District to get specific resources to improve the contract | C23: =SUM(June!C23,July!C23,Aug!C23,Sept!C23,Oct!C23,Nov!C23,Dec!C23) -> 0 | D23: =SUM(June!D23,July!D23,Aug!D23,Sept!D23,Oct!D23,Nov!D23,Dec!D23) -> 0 | E23: =SUM(June!E23,July!E23,Aug!E23,Sept!E23,Oct!E23,Nov!E23,Dec!E23) -> 0 | F23: =SUM(June!F23,July!F23,Aug!F23,Sept!F23,Oct!F23,Nov!F23,Dec!F23) -> 0 | G23: =SUM(June!G23,July!G23,Aug!G23,Sept!G23,Oct!G23,Nov!G23,Dec!G23) -> 0 | H23: =SUM(June!H23,July!H23,Aug!H23,Sept!H23,Oct!H23,Nov!H23,Dec!H23) -> 0
A24: 18 | B24: Preparation and attendance at social functions open to all, plus affiliate conventions | C24: =SUM(June!C24,July!C24,Aug!C24,Sept!C24,Oct!C24,Nov!C24,Dec!C24) -> 0 | D24: =SUM(June!D24,July!D24,Aug!D24,Sept!D24,Oct!D24,Nov!D24,Dec!D24) -> 0 | E24: =SUM(June!E24,July!E24,Aug!E24,Sept!E24,Oct!E24,Nov!E24,Dec!E24) -> 0 | F24: =SUM(June!F24,July!F24,Aug!F24,Sept!F24,Oct!F24,Nov!F24,Dec!F24) -> 0 | G24: =SUM(June!G24,July!G24,Aug!G24,Sept!G24,Oct!G24,Nov!G24,Dec!G24) -> 0 | H24: =SUM(June!H24,July!H24,Aug!H24,Sept!H24,Oct!H24,Nov!H24,Dec!H24) -> 0
A25: 19 | B25: Training and meetings, including BFA functions to the extent that they are chargeable activities | C25: =SUM(June!C25,July!C25,Aug!C25,Sept!C25,Oct!C25,Nov!C25,Dec!C25) -> 0 | D25: =SUM(June!D25,July!D25,Aug!D25,Sept!D25,Oct!D25,Nov!D25,Dec!D25) -> 0 | E25: =SUM(June!E25,July!E25,Aug!E25,Sept!E25,Oct!E25,Nov!E25,Dec!E25) -> 0 | F25: =SUM(June!F25,July!F25,Aug!F25,Sept!F25,Oct!F25,Nov!F25,Dec!F25) -> 0 | G25: =SUM(June!G25,July!G25,Aug!G25,Sept!G25,Oct!G25,Nov!G25,Dec!G25) -> 0 | H25: =SUM(June!H25,July!H25,Aug!H25,Sept!H25,Oct!H25,Nov!H25,Dec!H25) -> 0
A26: 20 | B26: Other chargeable activities (Please specify): > | C26: =SUM(June!C26,July!C26,Aug!C26,Sept!C26,Oct!C26,Nov!C26,Dec!C26) -> 0 | D26: =SUM(June!D26,July!D26,Aug!D26,Sept!D26,Oct!D26,Nov!D26,Dec!D26) -> 0 | E26: =SUM(June!E26,July!E26,Aug!E26,Sept!E26,Oct!E26,Nov!E26,Dec!E26) -> 0 | F26: =SUM(June!F26,July!F26,Aug!F26,Sept!F26,Oct!F26,Nov!F26,Dec!F26) -> 0 | G26: =SUM(June!G26,July!G26,Aug!G26,Sept!G26,Oct!G26,Nov!G26,Dec!G26) -> 0 | H26: =SUM(June!H26,July!H26,Aug!H26,Sept!H26,Oct!H26,Nov!H26,Dec!H26) -> 0
B28: TOTAL HOURS WORKED THIS MONTH >> | C28: =SUM(June!C28,July!C28,Aug!C28,Sept!C28,Oct!C28,Nov!C28,Dec!C28) -> 0 | D28: =SUM(June!D28,July!D28,Aug!D28,Sept!D28,Oct!D28,Nov!D28,Dec!D28) -> 0 | E28: =SUM(June!E28,July!E28,Aug!E28,Sept!E28,Oct!E28,Nov!E28,Dec!E28) -> 0 | F28: =SUM(June!F28,July!F28,Aug!F28,Sept!F28,Oct!F28,Nov!F28,Dec!F28) -> 0 | G28: =SUM(June!G28,July!G28,Aug!G28,Sept!G28,Oct!G28,Nov!G28,Dec!G28) -> 0 | H28: =SUM(June!H28,July!H28,Aug!H28,Sept!H28,Oct!H28,Nov!H28,Dec!H28) -> 0

Sheet Sheet3
